BEGIN:VCALENDAR
PRODID:-//eluceo/ical//2.0/EN
VERSION:2.0
CALSCALE:GREGORIAN
BEGIN:VEVENT
UID:5c9a35bfb93b350aa722a1521d03a1a5
DTSTAMP:20260424T033358Z
SUMMARY:Ben Gurion Society Thank You Event
DESCRIPTION:Tidewater Jewish Foundation\nCalendar\nhttps://foundation.jewis
 hva.org/calendar/2023-ujft-campaign-major-giver-thank-you-event-1673889617
 -429178\n\nThank you event for UJFT Major Givers and Campaign Volunteers.
  
DTSTART;TZID=America/New_York:20230516T173000
DTEND;TZID=America/New_York:20230516T190000
END:VEVENT
END:VCALENDAR
