BEGIN:VCALENDAR
PRODID:-//eluceo/ical//2.0/EN
VERSION:2.0
CALSCALE:GREGORIAN
BEGIN:VEVENT
UID:f4373c9a640d3231f50b9e8d085ce673
DTSTAMP:20260421T091912Z
SUMMARY:31st Annual Virginia Festival of Jewish Film: Remembering Gene Wild
 er
DESCRIPTION:Tidewater Jewish Foundation\nCalendar\nhttps://foundation.jewis
 hva.org/calendar/31st-annual-virginia-festival-of-jewish-film-1683571036-4
 37346\n\nRemembering Gene Wilder\n\nSaturday\, February 24 ● 7:30 PM\nVi
 rginia Museum of Contemporary Art\n\nTHE BIG SATURDAY NIGHT CELEBRATION OF
  JEWISH FILM\nIncludes a conversation with the film’s director\, Ron Fra
 nk\, followed by a dessert and champagne reception\n\nDirector Ron Frank 
 ● 92 min ● United States ● 2023 ● English\n\nBorn Jerome Silberman
  to an assimilated Milwaukee Jewish family\, his childhood buddies called 
 him Jerry—but the world would come to know him as Gene Wilder. Th...
DTSTART;TZID=America/New_York:20240224T193000
DTEND;TZID=America/New_York:20240224T213000
END:VEVENT
END:VCALENDAR
