BEGIN:VCALENDAR
PRODID:-//eluceo/ical//2.0/EN
VERSION:2.0
CALSCALE:GREGORIAN
BEGIN:VEVENT
UID:01d1a2a360870dfb3534877eb2e09973
DTSTAMP:20260421T072626Z
SUMMARY:31st Annual Virginia Festival of Jewish Film: Home
DESCRIPTION:Tidewater Jewish Foundation\nCalendar\nhttps://foundation.jewis
 hva.org/calendar/31st-annual-virginia-festival-of-jewish-film-1683571862-4
 37351\n\nHome\n\n2 SHOWTIMES\, Thursday\, February 22 ● 1:30 PM & 7:30 P
 M\nCinema Cafe Kemps River\n\nDirector Benny Fredman ● 111 min ● Israe
 l ● 2023 ● Hebrew\, Yiddish with English subtitles\n\nA young and rece
 ntly married Orthodox man&#39\;s dream to open a computer store in an ultr
 a-Orthodox neighborhood in Jerusalem turns into a violent nightmare when t
 he entire neighborhood sees him as an existential threat. Turning his whol
 e world upside down\, the threat enters his home and puts his marriage ...
DTSTART;TZID=America/New_York:20240222T000000
DTEND;TZID=America/New_York:20240222T235959
END:VEVENT
END:VCALENDAR
