BEGIN:VCALENDAR
PRODID:-//eluceo/ical//2.0/EN
VERSION:2.0
CALSCALE:GREGORIAN
BEGIN:VEVENT
UID:2ab80d98ea6e67b5d40e815b23cfddc4
DTSTAMP:20260421T072630Z
SUMMARY:Virginia Festival of Jewish Film: A Celebration of Israeli Short Fi
 lm
DESCRIPTION:Tidewater Jewish Foundation\nCalendar\nhttps://foundation.jewis
 hva.org/calendar/31st-annual-virginia-festival-of-jewish-film-1701376451-4
 53282\n\nA Celebration of Israeli Short Film\n\nSunday\, February 18 · 2:
 30 PM\nSimon Family JCC on the Reba & Sam Sandler Family Campus \n\nTicke
 ts: Suggested donation of $18\nAll funds raised will benefit UJFT’s Isra
 el Emergency Fund\nIn memory of the victims of  October 7\n\nThe Virginia
  Festival of Jewish Film holds in our thoughts the tragic events of Octobe
 r 7\, 2023\, when over 1\,200 people were murdered in southern Israel. Add
 itionally\, our thoughts extend to the hostages who died in captivi...
DTSTART;TZID=America/New_York:20240218T143000
DTEND;TZID=America/New_York:20240218T163000
END:VEVENT
END:VCALENDAR
