BEGIN:VCALENDAR
PRODID:-//eluceo/ical//2.0/EN
VERSION:2.0
CALSCALE:GREGORIAN
BEGIN:VEVENT
UID:7f857c3ce9e20e5032d9bd8ea48024ce
DTSTAMP:20260425T170337Z
SUMMARY:Lisa Barr -Jewish Book Festival
DESCRIPTION:Tidewater Jewish Foundation\nCalendar\nhttps://foundation.jewis
 hva.org/calendar/Lisa-Barr-jewish-book-festival-1654624585-408722\n\nLISA 
 BARR\n\nWoman on Fire\n\nTuesday\, March 21\, 12:00 PM\n\nat the Chrysler 
 Museum of Art\n\n \n\nREGISTER TO ATTEND\n\n \n\nWoman On Fire is a grip
 ping tale of a young\, ambitious journalist embroiled in an international 
 art scandal centered around a Nazi-looted masterpiece—forcing the ultima
 te showdown between passion and possession\, lovers and liars\, history an
 d truth.\n\n \n\nAfter talking her way into a job with the leading invest
 igative reporter in Chicago\, Jules Roth is given an u...
DTSTART;TZID=America/New_York:20230321T120000
DTEND;TZID=America/New_York:20230321T130000
END:VEVENT
END:VCALENDAR
