BEGIN:VCALENDAR
PRODID:-//eluceo/ical//2.0/EN
VERSION:2.0
CALSCALE:GREGORIAN
BEGIN:VEVENT
UID:a5eaf795a1330e743a74a1e699aa15cd
DTSTAMP:20260424T033554Z
SUMMARY:Michael Frank - Jewish Book Festival
DESCRIPTION:Tidewater Jewish Foundation\nCalendar\nhttps://foundation.jewis
 hva.org/calendar/Michel-frank-jewish-book-festival-1654624674-408724\n\nOn
 e Hundred Saturdays: Stella Levi and the Search for a Lost World\n\nVirtua
 l - Watch from home\n\nIn One Hundred Saturdays\, Michael Frank tells the 
 remarkable story of ninety-nine-year-old Stella Levi\, whose conversations
  with him over the course of six years bring to life the vibrant world of 
 Jewish Rhodes\, the deportation to Auschwitz that extinguished ninety perc
 ent of her community\, and the resilience and wisdom of the woman who live
 d to tell the tale.\n\nRegister for Link
DTSTART;TZID=America/New_York:20230509T120000
DTEND;TZID=America/New_York:20230509T130000
END:VEVENT
END:VCALENDAR
