BEGIN:VCALENDAR
PRODID:-//eluceo/ical//2.0/EN
VERSION:2.0
CALSCALE:GREGORIAN
BEGIN:VEVENT
UID:5bf0c4bdd757098d5135abfaa64ab0bb
DTSTAMP:20260423T173527Z
SUMMARY:Monthly Moon Circle
DESCRIPTION:Tidewater Jewish Foundation\nCalendar\nhttps://foundation.jewis
 hva.org/calendar/Monthly-Moon-circle-431151\n\nA monthly gathering to conn
 ect more deeply with ourselves\, each other and the sacred flow of the Heb
 rew calendar.\n\n \n\nWe invite you into a tradition that spans thousands
  of years: a monthly holiday known as Rosh Chodesh\, meaning "head of the 
 month". In the Jewish tradition\, each month begins with a new moon\, and 
 the Hebrew calendar is the way the Jewish people have kept time for millen
 nia.\n\n \n\nFor the past few centuries\, Rosh Chodesh has been one of Ju
 daism&#39\;s best-kept secrets. We&#39\;r...
DTSTART;TZID=America/New_York:20230316T184500
DTEND;TZID=America/New_York:20230316T204500
END:VEVENT
END:VCALENDAR
