BEGIN:VCALENDAR
PRODID:-//eluceo/ical//2.0/EN
VERSION:2.0
CALSCALE:GREGORIAN
BEGIN:VEVENT
UID:c22297860c90adcccfe0990b26eef967
DTSTAMP:20260421T070116Z
SUMMARY:Active Adults Birthday Celebration
DESCRIPTION:Tidewater Jewish Foundation\nCalendar\nhttps://foundation.jewis
 hva.org/calendar/active-adults-birthday-celebration-1690467627-456603\n\nA
 CTIVE ADULTS - Celebrate our community birthdays! Are you over 55? JOIN US
 ! Have some cake! Do you have a birthday this month? Let us honor your spe
 cial day!
DTSTART;TZID=America/New_York:20240202T123000
DTEND;TZID=America/New_York:20240202T143000
END:VEVENT
END:VCALENDAR
