BEGIN:VCALENDAR
PRODID:-//eluceo/ical//2.0/EN
VERSION:2.0
CALSCALE:GREGORIAN
BEGIN:VEVENT
UID:33f8752bc4199e842361d2cc98672874
DTSTAMP:20260423T232542Z
SUMMARY:All Things Digital with Mia
DESCRIPTION:Tidewater Jewish Foundation\nCalendar\nhttps://foundation.jewis
 hva.org/calendar/all-things-digital-with-mia-439378\n\nHave a coffee and c
 hat with Mia Klein\, technical wizard and Programs Department Coordinator!
 \n\nBring your questions about: computers\, class Information\, Ssgning up
  for events\, setting up the MyJ JCC app\, smart phones\, upcoming program
 s\, and more.\n\nFeel free to bring your devices!\n\nNO RESERVATION REQUIR
 ED\nContact Mia at 757-452-3184 or MKlein@UJFT.org with questions about th
 e event
DTSTART;TZID=America/New_York:20230531T000000
DTEND;TZID=America/New_York:20230531T124500
END:VEVENT
END:VCALENDAR
