BEGIN:VCALENDAR
PRODID:-//eluceo/ical//2.0/EN
VERSION:2.0
CALSCALE:GREGORIAN
BEGIN:VEVENT
UID:3490719f051cd43af1e6839bb1119839
DTSTAMP:20260425T170347Z
SUMMARY:Andrew Buerger-Climbing From Pain To Passion
DESCRIPTION:Tidewater Jewish Foundation\nCalendar\nhttps://foundation.jewis
 hva.org/calendar/andrew-buerger-climbing-from-pain-to-passion-1671139024-4
 23870\n\nAfter 30 expeditions on 4 different continents\, Andrew Buerger s
 hares with us three life lessons he learnt from mountaineering. His journe
 y will inspire you to navigate the peaks and valleys of your life.\nAndrew
  Buerger is the Founder of Jodi’s Climb for Hope which has raised $900\,
 000 for multiple sclerosis and breast cancer research by getting over 300 
 climbers safely to the summits on four continents. He is an award-winning 
 entrepreneur of for-profit and nonprofit organizations.
DTSTART;TZID=America/New_York:20230313T183000
DTEND;TZID=America/New_York:20230313T203000
END:VEVENT
END:VCALENDAR
