BEGIN:VCALENDAR
PRODID:-//eluceo/ical//2.0/EN
VERSION:2.0
CALSCALE:GREGORIAN
BEGIN:VEVENT
UID:4ae5d4cb512eaacc616c50b669169bc2
DTSTAMP:20260424T053241Z
SUMMARY:Art of Israel - A Jewish Art Education Course
DESCRIPTION:Tidewater Jewish Foundation\nCalendar\nhttps://foundation.jewis
 hva.org/calendar/art-of-israel-a-jewish-art-education-course-433966\n\nArt
  of Israel\n\n \n\nThe Art of Israel surveys the history of the land thro
 ugh art objects. It begins with the building of King Solomon’s Temple\, 
 and continues with the Jewish catacombs\, the synagogue mosaics\, and the 
 establishment of the modern State of Israel. This program follows the swee
 p of Israeli history while focusing on the visual arts and artists of rece
 nt centuries. \n\n \n\nFREE for JCC members with code MemberJAE at che
 ckout. $5 for JCC Guests. Includes lunch.\n\nRegister...
DTSTART;TZID=America/New_York:20230508T120000
DTEND;TZID=America/New_York:20230508T130000
END:VEVENT
END:VCALENDAR
