BEGIN:VCALENDAR
PRODID:-//eluceo/ical//2.0/EN
VERSION:2.0
CALSCALE:GREGORIAN
BEGIN:VEVENT
UID:29ac3270372c29dea9c89587a31737a9
DTSTAMP:20260424T164242Z
SUMMARY:Virginia Arts Festival presents Mames Babegenush
DESCRIPTION:Tidewater Jewish Foundation\nCalendar\nhttps://foundation.jewis
 hva.org/calendar/arts--ideas-event-1660321847-414772\n\nScandinavian roots
  merge with the vibrant dance music of Eastern Europe in a musical mashup 
 that proves utterly irresistible to audiences. With top players who can we
 ave classical artistry with a jazz pulse and a driving klezmer beat\, this
  Danish ensemble has won fans around the world. “It’s impossible to li
 sten to their exciting energy without feeling the urge to dance\, move som
 e part of one’s body\, or simply feel better about the world in general.
  The band is crisp\, with top players\, ...
DTSTART;TZID=America/New_York:20230427T193000
DTEND;TZID=America/New_York:20230427T210000
END:VEVENT
END:VCALENDAR
