BEGIN:VCALENDAR
PRODID:-//eluceo/ical//2.0/EN
VERSION:2.0
CALSCALE:GREGORIAN
BEGIN:VEVENT
UID:2fe5f167b7f2c34434f2694cb2eb8d03
DTSTAMP:20260423T174600Z
SUMMARY:August Birthdays - Active Adults
DESCRIPTION:Tidewater Jewish Foundation\nCalendar\nhttps://foundation.jewis
 hva.org/calendar/august-birthdays-active-adults-442780\n\nAugust ACTIVE AD
 ULTS - Celebrate August Birthdays! \n\nAre you over 55?  \nJOIN US! Hav
 e some cake!\nDo you have a July birthday?\nLet us honor your special day!
DTSTART;TZID=America/New_York:20230804T123000
DTEND;TZID=America/New_York:20230804T133000
END:VEVENT
END:VCALENDAR
