BEGIN:VCALENDAR
PRODID:-//eluceo/ical//2.0/EN
VERSION:2.0
CALSCALE:GREGORIAN
BEGIN:VEVENT
UID:00384a5c6ae0b0d9d37f2503c7230319
DTSTAMP:20260424T193731Z
SUMMARY:Baby and Me
DESCRIPTION:Tidewater Jewish Foundation\nCalendar\nhttps://foundation.jewis
 hva.org/calendar/baby-and-me-5-423457\n\nFree + Open to ALL GUARDIANS with
  babies up to 24 months.\n\nEvery other Tuesday at the Simon Family JCC!
   \n\nNo registration required.  Join other parents and our Youth & Fa
 mily Coordinator\, Nofar Trem\, for an hour of coffee and a sweet treat\, 
 baby activities and games\, and much needed parent talk!  \n\nJCC member
 ship not required. For more information\, contact Nofar at ntrem@ujft.org
 .
DTSTART;TZID=America/New_York:20230207T090000
DTEND;TZID=America/New_York:20230207T100000
END:VEVENT
END:VCALENDAR
