BEGIN:VCALENDAR
PRODID:-//eluceo/ical//2.0/EN
VERSION:2.0
CALSCALE:GREGORIAN
BEGIN:VEVENT
UID:968825d4ec91e3603404142209d7769a
DTSTAMP:20260424T012103Z
SUMMARY:Baby and Me - Splash!
DESCRIPTION:Tidewater Jewish Foundation\nCalendar\nhttps://foundation.jewis
 hva.org/calendar/baby-and-me-at-the-jcc-439643\n\nFree + Open to ALL GUARD
 IANS with babies up to 24 months.\n\nTUESDAY\, JUNE 13\, 9AM || Simon Fam
 ily JCC Metzger Outdoor Aquatic Center + Splash Pad \n\nNo registration r
 equired.  Join other parents and our Youth & Family Coordinator\, Nofar 
 Trem\, for an hour of coffee and a sweet treat\, baby activities and games
 \, and much needed parent talk!  \n\nGuardians are responsible for child
  supervision\, sunscreen & any other accessories your child may need. Toys
  and floaties available. Lifeguard o...
DTSTART;TZID=America/New_York:20230613T090000
DTEND;TZID=America/New_York:20230613T100000
END:VEVENT
END:VCALENDAR
