BEGIN:VCALENDAR
PRODID:-//eluceo/ical//2.0/EN
VERSION:2.0
CALSCALE:GREGORIAN
BEGIN:VEVENT
UID:06785fedfce8a4cb3d4dcb41a0b921dc
DTSTAMP:20260423T051056Z
SUMMARY:Baby and Me at the JCC
DESCRIPTION:Tidewater Jewish Foundation\nCalendar\nhttps://foundation.jewis
 hva.org/calendar/baby-and-me-at-the-jcc-5-438938\n\nFree + Open to ALL GUA
 RDIANS with babies up to 24 months.\n\nEvery other Tuesday at the Simon F
 amily JCC!  \n\nNo registration required.  Join other parents and our 
 Youth & Family Coordinator\, Nofar Trem\, for an hour of coffee and a swee
 t treat\, baby activities and games\, and much needed parent talk!  \n\n
 JCC membership not required. For more information\, contact Nofar at ntre
 m@ujft.org.
DTSTART;TZID=America/New_York:20230905T090000
DTEND;TZID=America/New_York:20230905T100000
END:VEVENT
END:VCALENDAR
