BEGIN:VCALENDAR
PRODID:-//eluceo/ical//2.0/EN
VERSION:2.0
CALSCALE:GREGORIAN
BEGIN:VEVENT
UID:3bcd9185ad58e9600abf137dc725fcd2
DTSTAMP:20260422T215900Z
SUMMARY:Baby and Me at the JCC
DESCRIPTION:Tidewater Jewish Foundation\nCalendar\nhttps://foundation.jewis
 hva.org/calendar/baby-and-me-at-the-jcc-5-438939\n\nFree + Open to ALL GUA
 RDIANS with babies up to 24 months.\n\nEvery other Tuesday at the Simon F
 amily JCC!  \n\nNo registration required.  Join other parents and our 
 Youth & Family Coordinator\, Nofar Trem\, for an hour of coffee and a swee
 t treat\, baby activities and games\, and much needed parent talk!  \n\n
 JCC membership not required. For more information\, contact Nofar at ntre
 m@ujft.org.
DTSTART;TZID=America/New_York:20230919T090000
DTEND;TZID=America/New_York:20230919T100000
END:VEVENT
END:VCALENDAR
