BEGIN:VCALENDAR
PRODID:-//eluceo/ical//2.0/EN
VERSION:2.0
CALSCALE:GREGORIAN
BEGIN:VEVENT
UID:e009c924de2b7200066dd5e8c2202755
DTSTAMP:20260422T085550Z
SUMMARY:Baby and Me at the JCC
DESCRIPTION:Tidewater Jewish Foundation\nCalendar\nhttps://foundation.jewis
 hva.org/calendar/baby-and-me-at-the-jcc-9-447005\n\nFree + Open to ALL GUA
 RDIANS with babies up to 24 months.\n\nEvery other Tuesday at the Simon F
 amily JCC!  \n\nNo registration required.  Join other parents and our 
 Youth & Family Coordinator\, Nofar Trem\, for an hour of coffee and a swee
 t treat\, baby activities and games\, and much needed parent talk!  \n\n
 JCC membership not required. \n\nA partnership between the PJ Library and
  Strelitz International Academy.
DTSTART;TZID=America/New_York:20231003T090000
DTEND;TZID=America/New_York:20231003T100000
END:VEVENT
END:VCALENDAR
