BEGIN:VCALENDAR
PRODID:-//eluceo/ical//2.0/EN
VERSION:2.0
CALSCALE:GREGORIAN
BEGIN:VEVENT
UID:fed5a36b3f7b72b768ff3cc9687fc185
DTSTAMP:20260423T082139Z
SUMMARY:Baby and Me - Splash!
DESCRIPTION:Tidewater Jewish Foundation\nCalendar\nhttps://foundation.jewis
 hva.org/calendar/baby-and-me-splash-438944\n\nFree + Open to ALL GUARDIANS
  with babies up to 24 months.\n\nNo registration required.  Join other 
 parents and our Youth & Family Coordinator\, Nofar Trem\, for an hour of c
 offee and a sweet treat\, baby activities and games\, and much needed pare
 nt talk!  \n\nGuardians are responsible for child supervision\, sunscree
 n & any other accessories your child may need. Toys and floaties available
 . Lifeguard on duty. We will meet indoors in the case of inclement weather
 . \n\nJCC membership not requ...
DTSTART;TZID=America/New_York:20230822T090000
DTEND;TZID=America/New_York:20230822T100000
END:VEVENT
END:VCALENDAR
