BEGIN:VCALENDAR
PRODID:-//eluceo/ical//2.0/EN
VERSION:2.0
CALSCALE:GREGORIAN
BEGIN:VEVENT
UID:eda4c824356dbfb47f468ae9789d90ac
DTSTAMP:20260424T131426Z
SUMMARY:Baby and Me
DESCRIPTION:Tidewater Jewish Foundation\nCalendar\nhttps://foundation.jewis
 hva.org/calendar/baby-and-me-splash-439641\n\nFree + Open to ALL GUARDIANS
  with babies up to 24 months.\n\nNo registration required.  Join other 
 parents and our Youth & Family Coordinator\, Nofar Trem\, for an hour of c
 offee and a sweet treat\, baby activities and games\, and much needed pare
 nt talk!  \n\nJCC membership not required. For more information\, conta
 ct Nofar at ntrem@ujft.org.
DTSTART;TZID=America/New_York:20230627T090000
DTEND;TZID=America/New_York:20230627T100000
END:VEVENT
END:VCALENDAR
