BEGIN:VCALENDAR
PRODID:-//eluceo/ical//2.0/EN
VERSION:2.0
CALSCALE:GREGORIAN
BEGIN:VEVENT
UID:d19eea0a201ac20d16bad632732ce56f
DTSTAMP:20260421T161420Z
SUMMARY:Baby & Me at the JCC
DESCRIPTION:Tidewater Jewish Foundation\nCalendar\nhttps://foundation.jewis
 hva.org/calendar/baby-me-at-the-jcc-20-453445\n\nFree + Open to ALL GUARDI
 ANS with babies up to 24 months.\n\nEvery other Tuesday at the Simon Famil
 y JCC!\nNo registration required. JCC membership not required. \n\nJoin o
 ther parents for an hour of coffee and other refreshments\, baby activitie
 s and games\, and much needed parent talk!\n\nIn partnership with Strelitz
  International Academy. For more information\, contact Sarah Cooper at sco
 oper@ujft.org.
DTSTART;TZID=America/New_York:20240109T000000
DTEND;TZID=America/New_York:20240109T100000
END:VEVENT
END:VCALENDAR
