BEGIN:VCALENDAR
PRODID:-//eluceo/ical//2.0/EN
VERSION:2.0
CALSCALE:GREGORIAN
BEGIN:VEVENT
UID:0ad89d70a31da7edff9582d8236dbb86
DTSTAMP:20260421T110342Z
SUMMARY:Be Aware: Situational Awareness on Campus and Beyond
DESCRIPTION:Tidewater Jewish Foundation\nCalendar\nhttps://foundation.jewis
 hva.org/calendar/be-aware-situational-awareness-on-campus-and-beyond-45294
 8\n\nMike Goldsmith\, Tidewater’s Secure Community Network (SCN) Regiona
 l Security Advisor\, will share details of SCN’s work in partnership wit
 h Hillel International bolstering campus safety and security programs for 
 Hillel International and its member Hillels. As Tidewater’s security adv
 isor\, liaison\, training coordinator and incident response manager\, Mike
  will provide a comprehensive training program designed to prepare partici
 pants to improve their situational awareness and increase their...
DTSTART;TZID=America/New_York:20240107T140000
DTEND;TZID=America/New_York:20240107T153000
END:VEVENT
END:VCALENDAR
