BEGIN:VCALENDAR
PRODID:-//eluceo/ical//2.0/EN
VERSION:2.0
CALSCALE:GREGORIAN
BEGIN:VEVENT
UID:7389bdba98befd389400b813389be07e
DTSTAMP:20260421T202233Z
SUMMARY:Berkley The Look Into the Heart of a Neighborhood
DESCRIPTION:Tidewater Jewish Foundation\nCalendar\nhttps://foundation.jewis
 hva.org/calendar/berkley-the-look-into-the-heart-of-a-neighborhood-1696965
 039-450039\n\nAmy Ostrower  is speaking about her book "Nana Lena's Kitche
 n Recipes for Life". These recipes are from her grandmother Lena Goodman w
 ho lived in Berkley\, VA.  There will be recipes to taste and a recipe fro
 m the book will be demonstrated.  Anyone with photos of their Berkley ance
 stors is urged to bring them as well as any stories tell.  Our hope is to 
 preserve this Jewish history for a future Tidewater Jewish Archives.
DTSTART;TZID=America/New_York:20231112T120000
DTEND;TZID=America/New_York:20231112T140000
END:VEVENT
END:VCALENDAR
