BEGIN:VCALENDAR
PRODID:-//eluceo/ical//2.0/EN
VERSION:2.0
CALSCALE:GREGORIAN
BEGIN:VEVENT
UID:05016e90be572a08defbb79e99ddfeb5
DTSTAMP:20260420T235547Z
SUMMARY:Beth El Men's Club Family Bingo Night
DESCRIPTION:Tidewater Jewish Foundation\nCalendar\nhttps://foundation.jewis
 hva.org/calendar/beth-el-mens-club-family-bingo-night-1701099753-452909\n\
 nBeth El family-fun bingo/fundraiser event! Tickets $20 adults/$15 for chi
 ldren\nBuffet-style dinner\, dessert\, a three-tiered bingo card\, and doo
 r prize drawings! Lots of great prizes and fun for all!
DTSTART;TZID=America/New_York:20240210T190000
DTEND;TZID=America/New_York:20240210T220000
END:VEVENT
END:VCALENDAR
