BEGIN:VCALENDAR
PRODID:-//eluceo/ical//2.0/EN
VERSION:2.0
CALSCALE:GREGORIAN
BEGIN:VEVENT
UID:84e65d3f323e342bbcc2175cf03d0244
DTSTAMP:20260423T184402Z
SUMMARY:Beth El Sisterhood Garage Sale
DESCRIPTION:Tidewater Jewish Foundation\nCalendar\nhttps://foundation.jewis
 hva.org/calendar/beth-el-sisterhood-garage-sale-1-441753\n\nHUGE garage sa
 le. Over 100 families participating. Furniture\, Boutique Items\, Art\, Je
 welry\, Housewares\, Linens\, Clothing\, Toys and more.\nOpen to all to co
 me find your treasures!\n\n4 days of the Garage Sale.\nSun July 16h 10-4pm
 \nWeds July 19th 10-4pm\nThursday July 20 10-4 pm\nFriday July 21 10-1pm\n
 \nat Congregation Beth El\n422 Shirley Avenue\nNorfolk\, Va 23517
DTSTART;TZID=America/New_York:20230719T100000
DTEND;TZID=America/New_York:20230719T160000
END:VEVENT
END:VCALENDAR
