BEGIN:VCALENDAR
PRODID:-//eluceo/ical//2.0/EN
VERSION:2.0
CALSCALE:GREGORIAN
BEGIN:VEVENT
UID:9e7e0d72dd419cb6deeebc56e5e64824
DTSTAMP:20260424T033343Z
SUMMARY:Beth El Sisterhood Garage Sale
DESCRIPTION:Tidewater Jewish Foundation\nCalendar\nhttps://foundation.jewis
 hva.org/calendar/beth-el-sisterhood-garage-sale-1687894551-441752\n\n4 day
 s of the Garage Sale.\nSun July 16h 10-4pm\nWeds July 19th 10-4pm\nThursda
 y July 20 10-4 pm\nFriday July 21 10-1pm\n\nat Congregation Beth El\n422 S
 hirley Avenue\nNorfolk\, Va 23517
DTSTART;TZID=America/New_York:20230716T100000
DTEND;TZID=America/New_York:20230716T160000
END:VEVENT
END:VCALENDAR
