BEGIN:VCALENDAR
PRODID:-//eluceo/ical//2.0/EN
VERSION:2.0
CALSCALE:GREGORIAN
BEGIN:VEVENT
UID:3d5951a397585fe0cb34564b86784c09
DTSTAMP:20260420T130228Z
SUMMARY:Beth El Sisterhood Open Board Meeting & Dinner
DESCRIPTION:Tidewater Jewish Foundation\nCalendar\nhttps://foundation.jewis
 hva.org/calendar/beth-el-sisterhood-open-board-meeting--dinner-1706709031-
 458827\n\nBeth El Sisterhood Open Board Meeting and Dinner. More details t
 o come
DTSTART;TZID=America/New_York:20240516T180000
DTEND;TZID=America/New_York:20240516T200000
END:VEVENT
END:VCALENDAR
