BEGIN:VCALENDAR
PRODID:-//eluceo/ical//2.0/EN
VERSION:2.0
CALSCALE:GREGORIAN
BEGIN:VEVENT
UID:dd47b7317b3671130b800366f3d1fdef
DTSTAMP:20260421T195524Z
SUMMARY:Beth Sholom Village Annual Meeting & Board Installation
DESCRIPTION:Tidewater Jewish Foundation\nCalendar\nhttps://foundation.jewis
 hva.org/calendar/beth-sholom-village-annual-meeting--board-installation-16
 97828622-450657\n\nJoin Beth Sholom Village for a celebration of our new S
 trategic Vision and our future plans for delivering more care to more seni
 ors over more years. Additionally\, the evening will feature a celebration
  of outgoing Chairman of the Board Larry Siegel\, and installation of inco
 ming Chairman of the Board\, Jay Kossman.\n\nMore details to be announced.
DTSTART;TZID=America/New_York:20240109T170000
DTEND;TZID=America/New_York:20240109T190000
END:VEVENT
END:VCALENDAR
