BEGIN:VCALENDAR
PRODID:-//eluceo/ical//2.0/EN
VERSION:2.0
CALSCALE:GREGORIAN
BEGIN:VEVENT
UID:75f43edf2e6a46ac0b412c5aceb6a5fd
DTSTAMP:20260425T025412Z
SUMMARY:Beth Sholom Village Service of Remembrance
DESCRIPTION:Tidewater Jewish Foundation\nCalendar\nhttps://foundation.jewis
 hva.org/calendar/beth-sholom-village-service-of-remembrance-1679930526-434
 624\n\nBeth Sholom Village remembers each of the residents who called our 
 community home\, by honoring their memory during a semiannual Service of R
 emembrance. We invite you to join us for a Service of Remembrance on May 2
 4\, 2023 at 6:30 PM\, for an outdoor service in the Mendelson Garden.
DTSTART;TZID=America/New_York:20230524T183000
DTEND;TZID=America/New_York:20230524T193000
END:VEVENT
END:VCALENDAR
