BEGIN:VCALENDAR
PRODID:-//eluceo/ical//2.0/EN
VERSION:2.0
CALSCALE:GREGORIAN
BEGIN:VEVENT
UID:12bd7713fd882f5e3a1a7d87b4d28c49
DTSTAMP:20260420T235617Z
SUMMARY:Beyond Borders: From the Birth of Nationalism to 1967
DESCRIPTION:Tidewater Jewish Foundation\nCalendar\nhttps://foundation.jewis
 hva.org/calendar/beyond-borders-from-the-birth-of-nationalism-to-1967-4535
 18\n\nBeyond Borders: The History of the Arab-Israeli Conflict\, Part 1\n1
 0-weeks\, Online Only\n\nTuesdays l Beginning Jan 16 | 6:45 PM\n\nExamine 
 maps\, media documents\, original speeches and the famous "Balfour Declara
 tion" with new eyes\, as we study the roots of the conflict between Jews a
 nd Arabs over the modern State of Israel. These 10 sessions\, taught by Dr
 . Amy K. Milligan\, encompass the return of the Jews to the land\, the rol
 e of the British\, the Cold War\, the rise of Palestinian nationalism...
DTSTART;TZID=America/New_York:20240116T184500
DTEND;TZID=America/New_York:20240116T201500
END:VEVENT
END:VCALENDAR
