BEGIN:VCALENDAR
PRODID:-//eluceo/ical//2.0/EN
VERSION:2.0
CALSCALE:GREGORIAN
BEGIN:VEVENT
UID:1e2a798fa932175c65153ae0fcee0c28
DTSTAMP:20260421T102559Z
SUMMARY:Beyond Borders: Post 1967 into the 21st Century
DESCRIPTION:Tidewater Jewish Foundation\nCalendar\nhttps://foundation.jewis
 hva.org/calendar/beyond-borders-post-1967-into-the-21st-century-1711572755
 -463133\n\nDelve into the complexities of the past half-century of the Ara
 b-Israeli conflict\, from the War of Attrition\, that began post-1967\, to
  present tensions. Analyzing newspaper articles\, speeches\, poems\, photo
 graphs\, and maps\, we will trace the more recent history of this entrench
 ed struggle. How did we get from 1973’s Yom Kippur War to the Israel-Egy
 pt Peace Treaty? What was the value of the Oslo Accords? What has been the
  impact of more contemporary peace attempts? Together\, we’ll leap into.
 ..
DTSTART;TZID=America/New_York:20240424T184500
DTEND;TZID=America/New_York:20240424T201500
END:VEVENT
END:VCALENDAR
