BEGIN:VCALENDAR
PRODID:-//eluceo/ical//2.0/EN
VERSION:2.0
CALSCALE:GREGORIAN
BEGIN:VEVENT
UID:4c359604d36ad5e34fc5e6afaf3282b0
DTSTAMP:20260422T161747Z
SUMMARY:Bogrim Program at Beth El
DESCRIPTION:Tidewater Jewish Foundation\nCalendar\nhttps://foundation.jewis
 hva.org/calendar/bogrim-program-at-beth-el-1701700219-453432\n\nThe Bogrim
  Program is a teen leadership building\, and social action/mitzvot program
  that meets once a month. Through discussions\, games\, and engaging in mi
 tzvot throughout the Tidewater Community\, our teens learn new skills\, an
 d put them into action. This month we will be focusing on Understanding an
 d Confronting Antisemitism. We will also be putting together take-away bag
 s for the NEST Project.
DTSTART;TZID=America/New_York:20231217T090000
DTEND;TZID=America/New_York:20231217T120000
END:VEVENT
END:VCALENDAR
