BEGIN:VCALENDAR
PRODID:-//eluceo/ical//2.0/EN
VERSION:2.0
CALSCALE:GREGORIAN
BEGIN:VEVENT
UID:95aaca76632fbc3e135c8c6db015fefc
DTSTAMP:20260426T011900Z
SUMMARY:BSV's Janet Gordon Annual Mah Jongg Day & Luncheon
DESCRIPTION:Tidewater Jewish Foundation\nCalendar\nhttps://foundation.jewis
 hva.org/calendar/bsvs-janet-gordon-annual-mah-jongg-day--luncheon-16491888
 00-404835\n\nMay Jongg Tournament\, Day of Play & Luncheon.\n100% of Proce
 eds Benefit Residents of Beth Sholom Village.\nLeading Sponsor: Daniel Gor
 don & Family
DTSTART;TZID=America/New_York:20230423T103000
DTEND;TZID=America/New_York:20230423T160000
END:VEVENT
END:VCALENDAR
