BEGIN:VCALENDAR
PRODID:-//eluceo/ical//2.0/EN
VERSION:2.0
CALSCALE:GREGORIAN
BEGIN:VEVENT
UID:2d7d3124554d63270a0222fcbc657aad
DTSTAMP:20260422T225913Z
SUMMARY:Burgers and Brews in the Sukkah
DESCRIPTION:Tidewater Jewish Foundation\nCalendar\nhttps://foundation.jewis
 hva.org/calendar/burgers-and-brews-in-the-sukkah-1695130942-448505\n\nJoin
  us for a delightful celebration of Sukkot with burgers and brew in the Su
 kkah! It&#39\;s the perfect occasion to come together\, savor delicious fo
 od\, and enjoy great company in the spirit of Sukkot. Don&#39\;t miss out 
 on this joyous gathering.
DTSTART;TZID=America/New_York:20231005T183000
DTEND;TZID=America/New_York:20231005T203000
END:VEVENT
END:VCALENDAR
