BEGIN:VCALENDAR
PRODID:-//eluceo/ical//2.0/EN
VERSION:2.0
CALSCALE:GREGORIAN
BEGIN:VEVENT
UID:4443d5ca614579803f6205d2120e24af
DTSTAMP:20260420T130233Z
SUMMARY:Camp JCC Counselor Meet and Greet
DESCRIPTION:Tidewater Jewish Foundation\nCalendar\nhttps://foundation.jewis
 hva.org/calendar/camp-jcc-counselor-meet-and-greet-1706645284-458788\n\nDe
 tails forthcoming
DTSTART;TZID=America/New_York:20240614T163000
DTEND;TZID=America/New_York:20240614T173000
END:VEVENT
END:VCALENDAR
