BEGIN:VCALENDAR
PRODID:-//eluceo/ical//2.0/EN
VERSION:2.0
CALSCALE:GREGORIAN
BEGIN:VEVENT
UID:b714757bdad2f2ffd6ac38fb5fd695b2
DTSTAMP:20260422T213730Z
SUMMARY:Cantors Concert - Remembering October 7
DESCRIPTION:Tidewater Jewish Foundation\nCalendar\nhttps://foundation.jewis
 hva.org/calendar/cantors-concert---remembering-october-7-1718740999-469956
 \n\nRemembering October 7
DTSTART;TZID=America/New_York:20241007T180000
DTEND;TZID=America/New_York:20241007T200000
END:VEVENT
END:VCALENDAR
