BEGIN:VCALENDAR
PRODID:-//eluceo/ical//2.0/EN
VERSION:2.0
CALSCALE:GREGORIAN
BEGIN:VEVENT
UID:37bac9bb17a86ce256f1fc3e6415760a
DTSTAMP:20260421T013422Z
SUMMARY:Casablanca Casino Night
DESCRIPTION:Tidewater Jewish Foundation\nCalendar\nhttps://foundation.jewis
 hva.org/calendar/casablanca-casino-night-1699018862\n\nJoin us for an exci
 ting evening of casino games\, a silent auction\, horse racing\, delectabl
 e food\, refreshing drinks\, and an abundance of fun! Free babysitting!
DTSTART;TZID=America/New_York:20240203T190000
DTEND;TZID=America/New_York:20240203T230000
END:VEVENT
END:VCALENDAR
