BEGIN:VCALENDAR
PRODID:-//eluceo/ical//2.0/EN
VERSION:2.0
CALSCALE:GREGORIAN
BEGIN:VEVENT
UID:d463b7509aaf797605c0269f1c3d0be8
DTSTAMP:20260420T235557Z
SUMMARY:Casablanca Casino Night at Temple Emanuel
DESCRIPTION:Tidewater Jewish Foundation\nCalendar\nhttps://foundation.jewis
 hva.org/calendar/casablanca-casino-night-at-temple-emanuel-1700148235-4523
 79\n\nA Night in Casablanca Casino Night.  Please mark your calendars and 
 plan to attend! Come join us for hors d&#039\;oeuvres\, drinks\, silent au
 ction\, horse racing\, and casino tables\, all set in magical Casablanca!
DTSTART;TZID=America/New_York:20240203T190000
DTEND;TZID=America/New_York:20240203T230000
END:VEVENT
END:VCALENDAR
