BEGIN:VCALENDAR
PRODID:-//eluceo/ical//2.0/EN
VERSION:2.0
CALSCALE:GREGORIAN
BEGIN:VEVENT
UID:de41ec749a6edf66f510e40fe4b6c696
DTSTAMP:20260423T152910Z
SUMMARY:Chabad's Annual Giant Menorah Lighting
DESCRIPTION:Tidewater Jewish Foundation\nCalendar\nhttps://foundation.jewis
 hva.org/calendar/chabads-annual-giant-menorah-lighting-1691590462-445239\n
 \nGiant public menorah lighting and celebration
DTSTART;TZID=America/New_York:20231210T163000
DTEND;TZID=America/New_York:20231210T180000
END:VEVENT
END:VCALENDAR
