BEGIN:VCALENDAR
PRODID:-//eluceo/ical//2.0/EN
VERSION:2.0
CALSCALE:GREGORIAN
BEGIN:VEVENT
UID:377a299a94ec59b8b2fa09f2b7bec641
DTSTAMP:20260422T073738Z
SUMMARY:Chanukkah Party
DESCRIPTION:Tidewater Jewish Foundation\nCalendar\nhttps://foundation.jewis
 hva.org/calendar/chanukkah-party-1701126927\n\nStep into the magic of the 
 "Chanukkah Community Party" at the 24th Street park at the VB Oceanfront! 
 ??\nEnjoy a mesmerizing music Chanukkah show\, witness the glow of menorah
  lighting\, and dive into the creative fun of sufganiyot decorating and ar
 ts and crafts for the little ones. Indulge in mouthwatering latkes\, drink
 s\, and get your own LED light necklaces. Plus\, savor the taste of Kosher
  burgers and hotdogs that will be available! ??\n\nBest of all\, entry is 
 FREE! Simply RSVP on our website...
DTSTART;TZID=America/New_York:20231207T170000
DTEND;TZID=America/New_York:20231207T190000
END:VEVENT
END:VCALENDAR
