BEGIN:VCALENDAR
PRODID:-//eluceo/ical//2.0/EN
VERSION:2.0
CALSCALE:GREGORIAN
BEGIN:VEVENT
UID:38e29278102717d0c7635b478c39bac2
DTSTAMP:20260422T020809Z
SUMMARY:Children & Family Committee Meeting
DESCRIPTION:Tidewater Jewish Foundation\nCalendar\nhttps://foundation.jewis
 hva.org/calendar/children--family-committee-meeting-1694633788-448151\n\nC
 hildren & Family Committee Meeting
DTSTART;TZID=America/New_York:20231019T093000
DTEND;TZID=America/New_York:20231019T103000
END:VEVENT
END:VCALENDAR
