BEGIN:VCALENDAR
PRODID:-//eluceo/ical//2.0/EN
VERSION:2.0
CALSCALE:GREGORIAN
BEGIN:VEVENT
UID:4f45d963cbc97e4aa12d475d00b655ef
DTSTAMP:20260420T235552Z
SUMMARY:Children & Family Committee Meeting
DESCRIPTION:Tidewater Jewish Foundation\nCalendar\nhttps://foundation.jewis
 hva.org/calendar/children--family-committee-meeting-1694633788-448221\n\nC
 hildren & Family Committee Meeting
DTSTART;TZID=America/New_York:20240215T093000
DTEND;TZID=America/New_York:20240215T113000
END:VEVENT
END:VCALENDAR
