BEGIN:VCALENDAR
PRODID:-//eluceo/ical//2.0/EN
VERSION:2.0
CALSCALE:GREGORIAN
BEGIN:VEVENT
UID:3d3fda876e965735ab164dc47987f876
DTSTAMP:20260419T152602Z
SUMMARY:Roundtable Conversations
DESCRIPTION:Tidewater Jewish Foundation\nCalendar\nhttps://foundation.jewis
 hva.org/calendar/coffee-and-conversation-nov-2024-473051\n\nThe United Jew
 ish Federation of Tidewater and Simon Family JCC invites curious members t
 o gather to discuss timely topics\, from the war in Israel to the latest h
 ealth technology and everything in between. Bring an article that intrigue
 s you or something you’ve read that has you stumped. Let’s talk about 
 it! \n\n 
DTSTART;TZID=America/New_York:20241107T130000
DTEND;TZID=America/New_York:20241107T140000
END:VEVENT
END:VCALENDAR
