BEGIN:VCALENDAR
PRODID:-//eluceo/ical//2.0/EN
VERSION:2.0
CALSCALE:GREGORIAN
BEGIN:VEVENT
UID:3f3dc9d31df1f0373f9ba556cd6e802d
DTSTAMP:20260423T103449Z
SUMMARY:Combatting Antisemitism in the Arts
DESCRIPTION:Tidewater Jewish Foundation\nCalendar\nhttps://foundation.jewis
 hva.org/calendar/combatting-antisemitism-in-the-arts-1710957199-462522\n\n
 This program is by invitation only. Please contact Hunter Thomas for more 
 information at HThomas@UJFT.org.
DTSTART;TZID=America/New_York:20240515T120000
DTEND;TZID=America/New_York:20240515T140000
END:VEVENT
END:VCALENDAR
