BEGIN:VCALENDAR
PRODID:-//eluceo/ical//2.0/EN
VERSION:2.0
CALSCALE:GREGORIAN
BEGIN:VEVENT
UID:31de2e798cc828ce542dfabc38aad754
DTSTAMP:20260423T152908Z
SUMMARY:Community Passover Seder at Temple Emanuel
DESCRIPTION:Tidewater Jewish Foundation\nCalendar\nhttps://foundation.jewis
 hva.org/calendar/community-passover-seder-at-temple-emanuel-1712672889-464
 054\n\n$45 members 13 and older\n$55 non-members 13 and older\n$30 members
  5 - 12\n$40 non-members 5 - 12\n$0 all kids 4 and younger
DTSTART;TZID=America/New_York:20240423T060000
DTEND;TZID=America/New_York:20240423T203000
END:VEVENT
END:VCALENDAR
