BEGIN:VCALENDAR
PRODID:-//eluceo/ical//2.0/EN
VERSION:2.0
CALSCALE:GREGORIAN
BEGIN:VEVENT
UID:bdc534b0919f7e25e6e0e9d5d9588c69
DTSTAMP:20260423T012915Z
SUMMARY:Community Sukkot Dinner
DESCRIPTION:Tidewater Jewish Foundation\nCalendar\nhttps://foundation.jewis
 hva.org/calendar/community-sukkot-dinner-1693847183-447415\n\nCommunity Su
 kkot dinner
DTSTART;TZID=America/New_York:20230929T193000
DTEND;TZID=America/New_York:20230929T210000
END:VEVENT
END:VCALENDAR
