BEGIN:VCALENDAR
PRODID:-//eluceo/ical//2.0/EN
VERSION:2.0
CALSCALE:GREGORIAN
BEGIN:VEVENT
UID:1725a7ad9cdd078de70f35f809111a31
DTSTAMP:20260422T103554Z
SUMMARY:Confronting Campus Antisemitism
DESCRIPTION:Tidewater Jewish Foundation\nCalendar\nhttps://foundation.jewis
 hva.org/calendar/confronting-campus-antisemitism-452944\n\nIdeal for high 
 school & college students & their families.\n\nJoin Mark Rotenberg\, Hille
 l International’s Vice President for University Initiatives and General 
 Counsel\, for an online conversation about the current climate on universi
 ty campuses\, what Hillel is doing to support the students and administrat
 ors\, and what the future holds.\n\nPart 1 of our 3 part Empowering Studen
 t Series.\n\nFree to attend\, Registration Required.\n\nRegister Today\n\n
 About Mark Rotenberg\, Vice President for ...
DTSTART;TZID=America/New_York:20231219T193000
DTEND;TZID=America/New_York:20231219T213000
END:VEVENT
END:VCALENDAR
