BEGIN:VCALENDAR
PRODID:-//eluceo/ical//2.0/EN
VERSION:2.0
CALSCALE:GREGORIAN
BEGIN:VEVENT
UID:089a807429574c1bf03023ead52d578e
DTSTAMP:20260422T000610Z
SUMMARY:Congregation Beth El\, Board of Directors meeting
DESCRIPTION:Tidewater Jewish Foundation\nCalendar\nhttps://foundation.jewis
 hva.org/calendar/congregation-beth-el-board-of-directors-meeting-169833947
 7-450969\n\nBoard of Directors meeting
DTSTART;TZID=America/New_York:20231212T190000
DTEND;TZID=America/New_York:20231212T210000
END:VEVENT
END:VCALENDAR
