BEGIN:VCALENDAR
PRODID:-//eluceo/ical//2.0/EN
VERSION:2.0
CALSCALE:GREGORIAN
BEGIN:VEVENT
UID:ca2c1eb228d097ed90fa25d096b78478
DTSTAMP:20260422T053144Z
SUMMARY:Congregation Beth El - Meeting
DESCRIPTION:Tidewater Jewish Foundation\nCalendar\nhttps://foundation.jewis
 hva.org/calendar/congregation-beth-el-meeting-452010\n\nCongregational Mee
 ting\n\n 
DTSTART;TZID=America/New_York:20231130T190000
DTEND;TZID=America/New_York:20231130T210000
END:VEVENT
END:VCALENDAR
