BEGIN:VCALENDAR
PRODID:-//eluceo/ical//2.0/EN
VERSION:2.0
CALSCALE:GREGORIAN
BEGIN:VEVENT
UID:5b687ce6a2fceef85cba3ed88495af92
DTSTAMP:20260421T225939Z
SUMMARY:Congregational Meeting
DESCRIPTION:Tidewater Jewish Foundation\nCalendar\nhttps://foundation.jewis
 hva.org/calendar/congregational-meeting-1713315858-464607\n\nOutgoing Pres
 ident Richard Yanku welcomes Incoming President Norman Soroko and his Offi
 cers and Board of Directors for the 2024-26 term … Fiscal 24/25 Budget a
 nd Steering Committee updates.
DTSTART;TZID=America/New_York:20240508T190000
DTEND;TZID=America/New_York:20240508T210000
END:VEVENT
END:VCALENDAR
